BEGIN:VCALENDAR
VERSION:2.0
PRODID:-//De Soos - ECPv6.15.20//NONSGML v1.0//EN
CALSCALE:GREGORIAN
METHOD:PUBLISH
X-WR-CALNAME:De Soos
X-ORIGINAL-URL:https://soosalkmaar.nl
X-WR-CALDESC:Evenementen voor De Soos
REFRESH-INTERVAL;VALUE=DURATION:PT1H
X-Robots-Tag:noindex
X-PUBLISHED-TTL:PT1H
BEGIN:VTIMEZONE
TZID:Europe/Amsterdam
BEGIN:DAYLIGHT
TZOFFSETFROM:+0100
TZOFFSETTO:+0200
TZNAME:CEST
DTSTART:20220327T010000
END:DAYLIGHT
BEGIN:STANDARD
TZOFFSETFROM:+0200
TZOFFSETTO:+0100
TZNAME:CET
DTSTART:20221030T010000
END:STANDARD
BEGIN:DAYLIGHT
TZOFFSETFROM:+0100
TZOFFSETTO:+0200
TZNAME:CEST
DTSTART:20230326T010000
END:DAYLIGHT
BEGIN:STANDARD
TZOFFSETFROM:+0200
TZOFFSETTO:+0100
TZNAME:CET
DTSTART:20231029T010000
END:STANDARD
BEGIN:DAYLIGHT
TZOFFSETFROM:+0100
TZOFFSETTO:+0200
TZNAME:CEST
DTSTART:20240331T010000
END:DAYLIGHT
BEGIN:STANDARD
TZOFFSETFROM:+0200
TZOFFSETTO:+0100
TZNAME:CET
DTSTART:20241027T010000
END:STANDARD
BEGIN:DAYLIGHT
TZOFFSETFROM:+0100
TZOFFSETTO:+0200
TZNAME:CEST
DTSTART:20250330T010000
END:DAYLIGHT
BEGIN:STANDARD
TZOFFSETFROM:+0200
TZOFFSETTO:+0100
TZNAME:CET
DTSTART:20251026T010000
END:STANDARD
END:VTIMEZONE
BEGIN:VEVENT
DTSTART;TZID=Europe/Amsterdam:20241011T150000
DTEND;TZID=Europe/Amsterdam:20241011T210000
DTSTAMP:20260425T025317
CREATED:20240831T160554Z
LAST-MODIFIED:20240831T160554Z
UID:3086-1728658800-1728680400@soosalkmaar.nl
SUMMARY:Dispuutbattle 1.0
DESCRIPTION:
URL:https://soosalkmaar.nl/event/dispuutbattle-1-0-2/
LOCATION:Noord-Holland
CATEGORIES:Competitie,Events
END:VEVENT
BEGIN:VEVENT
DTSTART;TZID=Europe/Amsterdam:20241004T150000
DTEND;TZID=Europe/Amsterdam:20241004T210000
DTSTAMP:20260425T025317
CREATED:20240831T152914Z
LAST-MODIFIED:20240831T160554Z
UID:3065-1728054000-1728075600@soosalkmaar.nl
SUMMARY:Oktoberfest
DESCRIPTION:Trek je lederhosen of dirndl aan en geniet van een avond vol bier\, pretzels en Duitse gezelligheid tijdens het Oktoberfest.
URL:https://soosalkmaar.nl/event/oktoberfest/
LOCATION:Noord-Holland
CATEGORIES:Events,Feest
END:VEVENT
BEGIN:VEVENT
DTSTART;TZID=Europe/Amsterdam:20240705T183000
DTEND;TZID=Europe/Amsterdam:20240706T003000
DTSTAMP:20260425T025317
CREATED:20240411T124052Z
LAST-MODIFIED:20240411T124052Z
UID:3043-1720204200-1720225800@soosalkmaar.nl
SUMMARY:Zomerfeest
DESCRIPTION:Pûllûh vûllûh is back\, kom voor €25 onbeperkt drinken bij Hal 25
URL:https://soosalkmaar.nl/event/zomerfeest/
LOCATION:Hal 25\, Pettemerstraat 15\, Alkmaar\, Noord-Holland\, 1823CW\, Nederland
END:VEVENT
BEGIN:VEVENT
DTSTART;TZID=Europe/Amsterdam:20240607T150000
DTEND;TZID=Europe/Amsterdam:20240607T230000
DTSTAMP:20260425T025317
CREATED:20240411T112929Z
LAST-MODIFIED:20240411T121555Z
UID:3039-1717772400-1717801200@soosalkmaar.nl
SUMMARY:Dit was het jaar
DESCRIPTION:Kom terugblikken op het jaar\, met alleen nog een zomerfeest te gaan is het tijd om met een drankje tot volgend jaar te proosten!
URL:https://soosalkmaar.nl/event/dit-was-het-jaar/
LOCATION:Soos Alkmaar\, Bergerweg 200\, Alkmaar\, Noord-Holland\, 1817MN\, Nederland
END:VEVENT
BEGIN:VEVENT
DTSTART;TZID=Europe/Amsterdam:20240524T150000
DTEND;TZID=Europe/Amsterdam:20240524T210000
DTSTAMP:20260425T025317
CREATED:20240411T111444Z
LAST-MODIFIED:20240411T121731Z
UID:3036-1716562800-1716584400@soosalkmaar.nl
SUMMARY:Pride
DESCRIPTION:Het is pride in de SooS! Kom in je leukste kleding en doe een (m/c)ocktailtje mee!
URL:https://soosalkmaar.nl/event/pride/
LOCATION:Soos Alkmaar\, Bergerweg 200\, Alkmaar\, Noord-Holland\, 1817MN\, Nederland
END:VEVENT
BEGIN:VEVENT
DTSTART;TZID=Europe/Amsterdam:20240517T150000
DTEND;TZID=Europe/Amsterdam:20240517T230000
DTSTAMP:20260425T025317
CREATED:20240411T110343Z
LAST-MODIFIED:20240411T110343Z
UID:3034-1715958000-1715986800@soosalkmaar.nl
SUMMARY:Meifeest
DESCRIPTION:Kom het meifeest bij ons vieren. of is het jouwfeest. Misschien zelfs onsfeest of is het toch julliefeest in mei.
URL:https://soosalkmaar.nl/event/meifeest-2/
LOCATION:Soos Alkmaar\, Bergerweg 200\, Alkmaar\, Noord-Holland\, 1817MN\, Nederland
END:VEVENT
BEGIN:VEVENT
DTSTART;TZID=Europe/Amsterdam:20240508T150000
DTEND;TZID=Europe/Amsterdam:20240508T210000
DTSTAMP:20260425T025317
CREATED:20240411T105604Z
LAST-MODIFIED:20240411T105604Z
UID:3032-1715180400-1715202000@soosalkmaar.nl
SUMMARY:Wiscko bierproeverij
DESCRIPTION:Kom verschillende lekkere biertjes bij ons proeven of niet\, kijk maar ff gr. planning
URL:https://soosalkmaar.nl/event/wiscko-bierproeverij/
LOCATION:Soos Alkmaar\, Bergerweg 200\, Alkmaar\, Noord-Holland\, 1817MN\, Nederland
END:VEVENT
BEGIN:VEVENT
DTSTART;TZID=Europe/Amsterdam:20240426T150000
DTEND;TZID=Europe/Amsterdam:20240426T210000
DTSTAMP:20260425T025317
CREATED:20240411T105058Z
LAST-MODIFIED:20240411T164507Z
UID:3030-1714143600-1714165200@soosalkmaar.nl
SUMMARY:Pre-koningsnacht
DESCRIPTION:Kom gezellig in je oranje kleding om een oranje shotje te drinken voor de verjaardag van Willempie
URL:https://soosalkmaar.nl/event/pre-koningsnacht/
LOCATION:Soos Alkmaar\, Bergerweg 200\, Alkmaar\, Noord-Holland\, 1817MN\, Nederland
END:VEVENT
BEGIN:VEVENT
DTSTART;TZID=Europe/Amsterdam:20240412T150000
DTEND;TZID=Europe/Amsterdam:20240412T210000
DTSTAMP:20260425T025317
CREATED:20240411T104119Z
LAST-MODIFIED:20240411T104119Z
UID:3028-1712934000-1712955600@soosalkmaar.nl
SUMMARY:Familiedag
DESCRIPTION:Het is weer tijd voor een familiedag. Neem je vader of moeder of je achternichtje mee. Opa’s en oma’s zijn ook welkom voor een drankje. Iedereen wie je meeneemt krijgt een gratis drankje vanuit het FAC.
URL:https://soosalkmaar.nl/event/familiedag-2/
LOCATION:Soos Alkmaar\, Bergerweg 200\, Alkmaar\, Noord-Holland\, 1817MN\, Nederland
END:VEVENT
BEGIN:VEVENT
DTSTART;VALUE=DATE:20240405
DTEND;VALUE=DATE:20240406
DTSTAMP:20260425T025317
CREATED:20231025T100716Z
LAST-MODIFIED:20231025T100800Z
UID:2982-1712275200-1712361599@soosalkmaar.nl
SUMMARY:Hollandse Avond
DESCRIPTION:Guus Meeuwis\, Frans Duits\, André Hazes\, en nog veel meer passeerd de revue vanavond.
URL:https://soosalkmaar.nl/event/hollandse-avond-2/
LOCATION:Soos Alkmaar\, Bergerweg 200\, Alkmaar\, Noord-Holland\, 1817MN\, Nederland
END:VEVENT
BEGIN:VEVENT
DTSTART;VALUE=DATE:20240322
DTEND;VALUE=DATE:20240323
DTSTAMP:20260425T025317
CREATED:20231025T072801Z
LAST-MODIFIED:20231025T072801Z
UID:2980-1711065600-1711151999@soosalkmaar.nl
SUMMARY:DispuutBattle 2.0
DESCRIPTION:De dispuutbattle 2.0! Welk dispuut bewijst zich hier als de beste?
URL:https://soosalkmaar.nl/event/dispuutbattle-2-0/
LOCATION:Soos Alkmaar\, Bergerweg 200\, Alkmaar\, Noord-Holland\, 1817MN\, Nederland
END:VEVENT
BEGIN:VEVENT
DTSTART;VALUE=DATE:20240315
DTEND;VALUE=DATE:20240316
DTSTAMP:20260425T025317
CREATED:20231025T072711Z
LAST-MODIFIED:20231025T072711Z
UID:2978-1710460800-1710547199@soosalkmaar.nl
SUMMARY:St Patty's
DESCRIPTION:Sint Patricks day! Lekker tijd voor groene biertjes en baby guinness’
URL:https://soosalkmaar.nl/event/st-pattys/
LOCATION:Noord-Holland
END:VEVENT
BEGIN:VEVENT
DTSTART;VALUE=DATE:20240308
DTEND;VALUE=DATE:20240309
DTSTAMP:20260425T025317
CREATED:20231025T072621Z
LAST-MODIFIED:20231025T072621Z
UID:2976-1709856000-1709942399@soosalkmaar.nl
SUMMARY:Vertigo
DESCRIPTION:
URL:https://soosalkmaar.nl/event/vertigo-3/
LOCATION:Soos Alkmaar\, Bergerweg 200\, Alkmaar\, Noord-Holland\, 1817MN\, Nederland
END:VEVENT
BEGIN:VEVENT
DTSTART;VALUE=DATE:20240223
DTEND;VALUE=DATE:20240224
DTSTAMP:20260425T025317
CREATED:20231025T072554Z
LAST-MODIFIED:20231025T072554Z
UID:2974-1708646400-1708732799@soosalkmaar.nl
SUMMARY:Pré-ski
DESCRIPTION:Hoe kan je beter voorbereiden op de après-ski\, als met een pre-ski!
URL:https://soosalkmaar.nl/event/pre-ski-2/
LOCATION:Noord-Holland
END:VEVENT
BEGIN:VEVENT
DTSTART;VALUE=DATE:20240209
DTEND;VALUE=DATE:20240210
DTSTAMP:20260425T025317
CREATED:20231025T072432Z
LAST-MODIFIED:20231025T072432Z
UID:2972-1707436800-1707523199@soosalkmaar.nl
SUMMARY:Valentijn
DESCRIPTION:Vind jij deze mooie dag jouw liefde?
URL:https://soosalkmaar.nl/event/valentijn/
LOCATION:Soos Alkmaar\, Bergerweg 200\, Alkmaar\, Noord-Holland\, 1817MN\, Nederland
END:VEVENT
BEGIN:VEVENT
DTSTART;VALUE=DATE:20240119
DTEND;VALUE=DATE:20240120
DTSTAMP:20260425T025317
CREATED:20240118T091019Z
LAST-MODIFIED:20240118T091019Z
UID:2996-1705622400-1705708799@soosalkmaar.nl
SUMMARY:Bierproeverij LOST
DESCRIPTION:We gaan de overheerlijke biertjes van de LOST brouwerij proeven\, kom vooral langs!
URL:https://soosalkmaar.nl/event/bierproeverij-lost/
LOCATION:Soos Alkmaar\, Bergerweg 200\, Alkmaar\, Noord-Holland\, 1817MN\, Nederland
END:VEVENT
BEGIN:VEVENT
DTSTART;VALUE=DATE:20240112
DTEND;VALUE=DATE:20240113
DTSTAMP:20260425T025317
CREATED:20231025T072330Z
LAST-MODIFIED:20231025T072330Z
UID:2970-1705017600-1705103999@soosalkmaar.nl
SUMMARY:Nieuwjaarsborrel
DESCRIPTION:Laten we dit jaar goed beginnen\, met de nieuwjaarsborrel!
URL:https://soosalkmaar.nl/event/nieuwjaarsborrel-2/
LOCATION:Soos Alkmaar\, Bergerweg 200\, Alkmaar\, Noord-Holland\, 1817MN\, Nederland
END:VEVENT
BEGIN:VEVENT
DTSTART;VALUE=DATE:20231222
DTEND;VALUE=DATE:20231223
DTSTAMP:20260425T025317
CREATED:20231025T072244Z
LAST-MODIFIED:20231025T072244Z
UID:2968-1703203200-1703289599@soosalkmaar.nl
SUMMARY:Kerstborrel
DESCRIPTION:Eerst lekker brak na het kerstgala met z’n allen ontbijten in de stapper! Daarna met z’n allen de SooS in!
URL:https://soosalkmaar.nl/event/kerstborrel/
LOCATION:Noord-Holland
END:VEVENT
BEGIN:VEVENT
DTSTART;VALUE=DATE:20231221
DTEND;VALUE=DATE:20231222
DTSTAMP:20260425T025317
CREATED:20231025T072126Z
LAST-MODIFIED:20231025T072126Z
UID:2966-1703116800-1703203199@soosalkmaar.nl
SUMMARY:Kerstgala
DESCRIPTION:Het kerstgala! Superleuk\, houd het wel rustig want morgen is de Kerstborrel!
URL:https://soosalkmaar.nl/event/kerstgala/
LOCATION:Noord-Holland
END:VEVENT
BEGIN:VEVENT
DTSTART;VALUE=DATE:20231208
DTEND;VALUE=DATE:20231209
DTSTAMP:20260425T025317
CREATED:20231025T072041Z
LAST-MODIFIED:20231025T072041Z
UID:2963-1701993600-1702079999@soosalkmaar.nl
SUMMARY:Lelûkkuh Manne
DESCRIPTION:Het mooiste dispuut van ASV omnivas\, dat is een pracht.
URL:https://soosalkmaar.nl/event/lelukkuh-manne/
LOCATION:Soos Alkmaar\, Bergerweg 200\, Alkmaar\, Noord-Holland\, 1817MN\, Nederland
END:VEVENT
BEGIN:VEVENT
DTSTART;VALUE=DATE:20231201
DTEND;VALUE=DATE:20231202
DTSTAMP:20260425T025317
CREATED:20231025T071929Z
LAST-MODIFIED:20231025T071929Z
UID:2961-1701388800-1701475199@soosalkmaar.nl
SUMMARY:SinterSooS
DESCRIPTION:Hij komt\, hij komt\, die lieve goede sint!
URL:https://soosalkmaar.nl/event/sintersoos/
LOCATION:Soos Alkmaar\, Bergerweg 200\, Alkmaar\, Noord-Holland\, 1817MN\, Nederland
END:VEVENT
BEGIN:VEVENT
DTSTART;VALUE=DATE:20231124
DTEND;VALUE=DATE:20231125
DTSTAMP:20260425T025317
CREATED:20231025T071846Z
LAST-MODIFIED:20231025T071846Z
UID:2959-1700784000-1700870399@soosalkmaar.nl
SUMMARY:Novemberfeest
DESCRIPTION:Groots feest! November is alweer geweest!
URL:https://soosalkmaar.nl/event/novemberfeest-2/
LOCATION:Soos Alkmaar\, Bergerweg 200\, Alkmaar\, Noord-Holland\, 1817MN\, Nederland
END:VEVENT
BEGIN:VEVENT
DTSTART;VALUE=DATE:20231116
DTEND;VALUE=DATE:20231117
DTSTAMP:20260425T025317
CREATED:20231025T071745Z
LAST-MODIFIED:20231025T071756Z
UID:2957-1700092800-1700179199@soosalkmaar.nl
SUMMARY:Wiscko whiskeyproeverij
DESCRIPTION:Heerlijk Whiskeytjes proefen met Wisckotonia!
URL:https://soosalkmaar.nl/event/wiscko-whiskeyproeverij/
LOCATION:Soos Alkmaar\, Bergerweg 200\, Alkmaar\, Noord-Holland\, 1817MN\, Nederland
END:VEVENT
BEGIN:VEVENT
DTSTART;VALUE=DATE:20231110
DTEND;VALUE=DATE:20231111
DTSTAMP:20260425T025317
CREATED:20231025T071639Z
LAST-MODIFIED:20231025T071639Z
UID:2954-1699574400-1699660799@soosalkmaar.nl
SUMMARY:Zimpel Zat
DESCRIPTION:Bier en?
URL:https://soosalkmaar.nl/event/zimpel-zat-2/
LOCATION:Soos Alkmaar\, Bergerweg 200\, Alkmaar\, Noord-Holland\, 1817MN\, Nederland
END:VEVENT
BEGIN:VEVENT
DTSTART;VALUE=DATE:20231103
DTEND;VALUE=DATE:20231104
DTSTAMP:20260425T025317
CREATED:20231025T071521Z
LAST-MODIFIED:20231025T071521Z
UID:2952-1698969600-1699055999@soosalkmaar.nl
SUMMARY:Halloween
DESCRIPTION:Heel spooky\, heel gezellig!
URL:https://soosalkmaar.nl/event/halloween-2/
LOCATION:Soos Alkmaar\, Bergerweg 200\, Alkmaar\, Noord-Holland\, 1817MN\, Nederland
END:VEVENT
BEGIN:VEVENT
DTSTART;VALUE=DATE:20231011
DTEND;VALUE=DATE:20231012
DTSTAMP:20260425T025317
CREATED:20231005T144350Z
LAST-MODIFIED:20231005T144350Z
UID:2933-1696982400-1697068799@soosalkmaar.nl
SUMMARY:Omnivas ALV
DESCRIPTION:Woensdag 11-10 is de omnivas ALV\, komt dat zien!
URL:https://soosalkmaar.nl/event/omnivas-alv/
LOCATION:Soos Alkmaar\, Bergerweg 200\, Alkmaar\, Noord-Holland\, 1817MN\, Nederland
END:VEVENT
BEGIN:VEVENT
DTSTART;VALUE=DATE:20231006
DTEND;VALUE=DATE:20231007
DTSTAMP:20260425T025317
CREATED:20231005T144306Z
LAST-MODIFIED:20231005T144306Z
UID:2930-1696550400-1696636799@soosalkmaar.nl
SUMMARY:Pré alkmaars ontzet
DESCRIPTION:Wij gaan voorbereiden op het alkmaars ontzet!
URL:https://soosalkmaar.nl/event/pre-alkmaars-ontzet/
LOCATION:Noord-Holland
END:VEVENT
BEGIN:VEVENT
DTSTART;TZID=Europe/Amsterdam:20230707T150000
DTEND;TZID=Europe/Amsterdam:20230707T230000
DTSTAMP:20260425T025317
CREATED:20220919T122235Z
LAST-MODIFIED:20220919T122258Z
UID:2788-1688742000-1688770800@soosalkmaar.nl
SUMMARY:Pûllûh Vûllûh!
DESCRIPTION:Over een feestje gesproken. Elk jaar sluiten we de boel af met het grootste meest fantastische feest van het jaar Pûllûh Vûllûh! DJ’s\, dansen\, speciaal gemaakte zomermix en drinken uit een pul. Wie wil dat nou niet?
URL:https://soosalkmaar.nl/event/pulluh-vulluh/
LOCATION:Noord-Holland
END:VEVENT
BEGIN:VEVENT
DTSTART;TZID=Europe/Amsterdam:20230609T150000
DTEND;TZID=Europe/Amsterdam:20230609T230000
DTSTAMP:20260425T025317
CREATED:20200205T150735Z
LAST-MODIFIED:20220919T114052Z
UID:2693-1686322800-1686351600@soosalkmaar.nl
SUMMARY:Dit was het jaar!
DESCRIPTION:We kijken terug naar het afgelopen jaar\, wat is er allemaal gebeurd. We willen het eigenlijk niet weten…
URL:https://soosalkmaar.nl/event/dit-was-voor-omnivas-het-jaar/
LOCATION:Soos Alkmaar\, Bergerweg 200\, Alkmaar\, Noord-Holland\, 1817MN\, Nederland
ATTACH;FMTTYPE=image/jpeg:https://soosalkmaar.nl/wp-content/uploads/2020/02/2000.jpg
END:VEVENT
BEGIN:VEVENT
DTSTART;TZID=Europe/Amsterdam:20230602T150000
DTEND;TZID=Europe/Amsterdam:20230602T210000
DTSTAMP:20260425T025317
CREATED:20191104T153414Z
LAST-MODIFIED:20220919T114136Z
UID:2602-1685718000-1685739600@soosalkmaar.nl
SUMMARY:Cocktail Avond
DESCRIPTION:Een cocktail bij het bijna zomerse weer is natuurlijk niet te missen! \nOnze barmannen en vrouwen staan voor je klaar om iets lekkers te shaken\, wat er op het menu staat is binnenkort te zien! \nOok valt er nog wat leuks te vieren\, want een bijzonder persoon is die dag jarig!
URL:https://soosalkmaar.nl/event/cocktail/
LOCATION:Soos Alkmaar\, Bergerweg 200\, Alkmaar\, Noord-Holland\, 1817MN\, Nederland
ATTACH;FMTTYPE=image/jpeg:https://soosalkmaar.nl/wp-content/uploads/2019/11/frisse-cocktails-lente-1200x545-c.jpg
END:VEVENT
END:VCALENDAR