BEGIN:VCALENDAR
VERSION:2.0
PRODID:-//De Soos - ECPv6.15.20//NONSGML v1.0//EN
CALSCALE:GREGORIAN
METHOD:PUBLISH
X-WR-CALNAME:De Soos
X-ORIGINAL-URL:https://soosalkmaar.nl
X-WR-CALDESC:Evenementen voor De Soos
REFRESH-INTERVAL;VALUE=DURATION:PT1H
X-Robots-Tag:noindex
X-PUBLISHED-TTL:PT1H
BEGIN:VTIMEZONE
TZID:Europe/Amsterdam
BEGIN:DAYLIGHT
TZOFFSETFROM:+0100
TZOFFSETTO:+0200
TZNAME:CEST
DTSTART:20230326T010000
END:DAYLIGHT
BEGIN:STANDARD
TZOFFSETFROM:+0200
TZOFFSETTO:+0100
TZNAME:CET
DTSTART:20231029T010000
END:STANDARD
BEGIN:DAYLIGHT
TZOFFSETFROM:+0100
TZOFFSETTO:+0200
TZNAME:CEST
DTSTART:20240331T010000
END:DAYLIGHT
BEGIN:STANDARD
TZOFFSETFROM:+0200
TZOFFSETTO:+0100
TZNAME:CET
DTSTART:20241027T010000
END:STANDARD
BEGIN:DAYLIGHT
TZOFFSETFROM:+0100
TZOFFSETTO:+0200
TZNAME:CEST
DTSTART:20250330T010000
END:DAYLIGHT
BEGIN:STANDARD
TZOFFSETFROM:+0200
TZOFFSETTO:+0100
TZNAME:CET
DTSTART:20251026T010000
END:STANDARD
BEGIN:DAYLIGHT
TZOFFSETFROM:+0100
TZOFFSETTO:+0200
TZNAME:CEST
DTSTART:20260329T010000
END:DAYLIGHT
BEGIN:STANDARD
TZOFFSETFROM:+0200
TZOFFSETTO:+0100
TZNAME:CET
DTSTART:20261025T010000
END:STANDARD
END:VTIMEZONE
BEGIN:VEVENT
DTSTART;TZID=Europe/Amsterdam:20250516T150000
DTEND;TZID=Europe/Amsterdam:20250516T210000
DTSTAMP:20260424T181932
CREATED:20240831T160657Z
LAST-MODIFIED:20240831T160657Z
UID:3111-1747407600-1747429200@soosalkmaar.nl
SUMMARY:Vertigo
DESCRIPTION:
URL:https://soosalkmaar.nl/event/vertigo-4/
CATEGORIES:Events,Feest
END:VEVENT
BEGIN:VEVENT
DTSTART;TZID=Europe/Amsterdam:20250509T150000
DTEND;TZID=Europe/Amsterdam:20250511T000000
DTSTAMP:20260424T181932
CREATED:20240831T160657Z
LAST-MODIFIED:20240831T160657Z
UID:3110-1746802800-1746921600@soosalkmaar.nl
SUMMARY:Weekend weg
DESCRIPTION:
URL:https://soosalkmaar.nl/event/weekend-weg-2/
CATEGORIES:Events,Weekend
END:VEVENT
BEGIN:VEVENT
DTSTART;TZID=Europe/Amsterdam:20250425T150000
DTEND;TZID=Europe/Amsterdam:20250425T210000
DTSTAMP:20260424T181932
CREATED:20240831T160657Z
LAST-MODIFIED:20240831T160657Z
UID:3109-1745593200-1745614800@soosalkmaar.nl
SUMMARY:Koningsnacht
DESCRIPTION:
URL:https://soosalkmaar.nl/event/koningsnacht/
CATEGORIES:Events,Feest
END:VEVENT
BEGIN:VEVENT
DTSTART;TZID=Europe/Amsterdam:20250411T150000
DTEND;TZID=Europe/Amsterdam:20250411T210000
DTSTAMP:20260424T181932
CREATED:20240831T160657Z
LAST-MODIFIED:20240831T160657Z
UID:3108-1744383600-1744405200@soosalkmaar.nl
SUMMARY:Familiedag
DESCRIPTION:
URL:https://soosalkmaar.nl/event/familiedag-3/
CATEGORIES:Events,Familie
END:VEVENT
BEGIN:VEVENT
DTSTART;TZID=Europe/Amsterdam:20250404T150000
DTEND;TZID=Europe/Amsterdam:20250404T230000
DTSTAMP:20260424T181932
CREATED:20240831T160656Z
LAST-MODIFIED:20240831T160656Z
UID:3107-1743778800-1743807600@soosalkmaar.nl
SUMMARY:Hollandse Avond
DESCRIPTION:
URL:https://soosalkmaar.nl/event/hollandse-avond-3/
CATEGORIES:Events,Feest
END:VEVENT
BEGIN:VEVENT
DTSTART;TZID=Europe/Amsterdam:20250321T150000
DTEND;TZID=Europe/Amsterdam:20250321T210000
DTSTAMP:20260424T181932
CREATED:20240831T160641Z
LAST-MODIFIED:20240831T160641Z
UID:3106-1742569200-1742590800@soosalkmaar.nl
SUMMARY:Dispuutbattle 2.0
DESCRIPTION:
URL:https://soosalkmaar.nl/event/dispuutbattle-2-0-2/
CATEGORIES:Competitie,Events
END:VEVENT
BEGIN:VEVENT
DTSTART;TZID=Europe/Amsterdam:20250320T150000
DTEND;TZID=Europe/Amsterdam:20250320T150000
DTSTAMP:20260424T181932
CREATED:20240831T160641Z
LAST-MODIFIED:20240831T160641Z
UID:3105-1742482800-1742482800@soosalkmaar.nl
SUMMARY:BRAL
DESCRIPTION:
URL:https://soosalkmaar.nl/event/bral-2/
CATEGORIES:Events,Social
END:VEVENT
BEGIN:VEVENT
DTSTART;TZID=Europe/Amsterdam:20250314T150000
DTEND;TZID=Europe/Amsterdam:20250314T230000
DTSTAMP:20260424T181932
CREATED:20240831T160641Z
LAST-MODIFIED:20240831T160641Z
UID:3104-1741964400-1741993200@soosalkmaar.nl
SUMMARY:St. Patty
DESCRIPTION:
URL:https://soosalkmaar.nl/event/st-patty/
CATEGORIES:Events,Feest
END:VEVENT
BEGIN:VEVENT
DTSTART;TZID=Europe/Amsterdam:20250228T150000
DTEND;TZID=Europe/Amsterdam:20250228T230000
DTSTAMP:20260424T181932
CREATED:20240831T160641Z
LAST-MODIFIED:20240831T160641Z
UID:3103-1740754800-1740783600@soosalkmaar.nl
SUMMARY:Carnaval
DESCRIPTION:
URL:https://soosalkmaar.nl/event/carnaval-2/
CATEGORIES:Events,Feest
END:VEVENT
BEGIN:VEVENT
DTSTART;TZID=Europe/Amsterdam:20250214T150000
DTEND;TZID=Europe/Amsterdam:20250214T210000
DTSTAMP:20260424T181932
CREATED:20240831T160641Z
LAST-MODIFIED:20240831T160641Z
UID:3102-1739545200-1739566800@soosalkmaar.nl
SUMMARY:Pre-ski
DESCRIPTION:
URL:https://soosalkmaar.nl/event/pre-ski-3/
CATEGORIES:Events,Feest
END:VEVENT
BEGIN:VEVENT
DTSTART;TZID=Europe/Amsterdam:20250212T150000
DTEND;TZID=Europe/Amsterdam:20250212T150000
DTSTAMP:20260424T181932
CREATED:20240831T160627Z
LAST-MODIFIED:20240831T160627Z
UID:3101-1739372400-1739372400@soosalkmaar.nl
SUMMARY:ALV
DESCRIPTION:
URL:https://soosalkmaar.nl/event/alv-3/
CATEGORIES:Events,Vergadering
END:VEVENT
BEGIN:VEVENT
DTSTART;TZID=Europe/Amsterdam:20250207T150000
DTEND;TZID=Europe/Amsterdam:20250207T150000
DTSTAMP:20260424T181932
CREATED:20240831T160626Z
LAST-MODIFIED:20240831T160626Z
UID:3100-1738940400-1738940400@soosalkmaar.nl
SUMMARY:Zimpel Zat
DESCRIPTION:
URL:https://soosalkmaar.nl/event/zimpel-zat-3/
CATEGORIES:Events,Feest
END:VEVENT
BEGIN:VEVENT
DTSTART;TZID=Europe/Amsterdam:20250123T150000
DTEND;TZID=Europe/Amsterdam:20250123T150000
DTSTAMP:20260424T181932
CREATED:20240831T160626Z
LAST-MODIFIED:20240831T160626Z
UID:3099-1737644400-1737644400@soosalkmaar.nl
SUMMARY:Kroegentocht
DESCRIPTION:
URL:https://soosalkmaar.nl/event/kroegentocht/
CATEGORIES:Events,Tocht
END:VEVENT
BEGIN:VEVENT
DTSTART;TZID=Europe/Amsterdam:20250110T150000
DTEND;TZID=Europe/Amsterdam:20250110T230000
DTSTAMP:20260424T181932
CREATED:20240831T160626Z
LAST-MODIFIED:20240831T160626Z
UID:3098-1736521200-1736550000@soosalkmaar.nl
SUMMARY:Nieuwjaarsborrel
DESCRIPTION:
URL:https://soosalkmaar.nl/event/nieuwjaarsborrel-3/
CATEGORIES:Borrel,Events
END:VEVENT
BEGIN:VEVENT
DTSTART;TZID=Europe/Amsterdam:20241220T150000
DTEND;TZID=Europe/Amsterdam:20241220T210000
DTSTAMP:20260424T181932
CREATED:20240831T160626Z
LAST-MODIFIED:20240831T160626Z
UID:3097-1734706800-1734728400@soosalkmaar.nl
SUMMARY:Kerstborrel
DESCRIPTION:
URL:https://soosalkmaar.nl/event/kerstborrel-2/
CATEGORIES:Borrel,Events
END:VEVENT
BEGIN:VEVENT
DTSTART;TZID=Europe/Amsterdam:20241219T150000
DTEND;TZID=Europe/Amsterdam:20241219T150000
DTSTAMP:20260424T181932
CREATED:20240831T160612Z
LAST-MODIFIED:20240831T160612Z
UID:3096-1734620400-1734620400@soosalkmaar.nl
SUMMARY:Kerstgala
DESCRIPTION:
URL:https://soosalkmaar.nl/event/kerstgala-2/
CATEGORIES:Events,Gala
END:VEVENT
BEGIN:VEVENT
DTSTART;TZID=Europe/Amsterdam:20241213T150000
DTEND;TZID=Europe/Amsterdam:20241213T210000
DTSTAMP:20260424T181932
CREATED:20240831T160611Z
LAST-MODIFIED:20240831T160611Z
UID:3095-1734102000-1734123600@soosalkmaar.nl
SUMMARY:Lelûkkuh Manne
DESCRIPTION:
URL:https://soosalkmaar.nl/event/lelukkuh-manne-2/
CATEGORIES:Events,Feest
END:VEVENT
BEGIN:VEVENT
DTSTART;TZID=Europe/Amsterdam:20241206T150000
DTEND;TZID=Europe/Amsterdam:20241206T210000
DTSTAMP:20260424T181932
CREATED:20240831T160611Z
LAST-MODIFIED:20240831T160611Z
UID:3094-1733497200-1733518800@soosalkmaar.nl
SUMMARY:Sintersoos
DESCRIPTION:
URL:https://soosalkmaar.nl/event/sintersoos-2/
CATEGORIES:Events,Feest
END:VEVENT
BEGIN:VEVENT
DTSTART;TZID=Europe/Amsterdam:20241129T150000
DTEND;TZID=Europe/Amsterdam:20241129T230000
DTSTAMP:20260424T181932
CREATED:20240831T160611Z
LAST-MODIFIED:20240831T160611Z
UID:3093-1732892400-1732921200@soosalkmaar.nl
SUMMARY:Novemberfeest
DESCRIPTION:
URL:https://soosalkmaar.nl/event/novemberfeest-3/
CATEGORIES:Events,Feest
END:VEVENT
BEGIN:VEVENT
DTSTART;TZID=Europe/Amsterdam:20241128T150000
DTEND;TZID=Europe/Amsterdam:20241128T150000
DTSTAMP:20260424T181932
CREATED:20240831T160611Z
LAST-MODIFIED:20240831T160611Z
UID:3092-1732806000-1732806000@soosalkmaar.nl
SUMMARY:BRAL
DESCRIPTION:
URL:https://soosalkmaar.nl/event/bral/
CATEGORIES:Events,Social
END:VEVENT
BEGIN:VEVENT
DTSTART;TZID=Europe/Amsterdam:20241122T150000
DTEND;TZID=Europe/Amsterdam:20241122T210000
DTSTAMP:20260424T181932
CREATED:20240831T160556Z
LAST-MODIFIED:20240831T160556Z
UID:3091-1732287600-1732309200@soosalkmaar.nl
SUMMARY:Wiscko Wiskey
DESCRIPTION:
URL:https://soosalkmaar.nl/event/wiscko-wiskey/
CATEGORIES:Events,Proeverij
END:VEVENT
BEGIN:VEVENT
DTSTART;TZID=Europe/Amsterdam:20241115T150000
DTEND;TZID=Europe/Amsterdam:20241117T000000
DTSTAMP:20260424T181932
CREATED:20240831T160556Z
LAST-MODIFIED:20240831T160556Z
UID:3090-1731682800-1731801600@soosalkmaar.nl
SUMMARY:Weekend weg
DESCRIPTION:
URL:https://soosalkmaar.nl/event/weekend-weg/
CATEGORIES:Events,Weekend
END:VEVENT
BEGIN:VEVENT
DTSTART;TZID=Europe/Amsterdam:20241108T150000
DTEND;TZID=Europe/Amsterdam:20241108T210000
DTSTAMP:20260424T181932
CREATED:20240831T160556Z
LAST-MODIFIED:20240831T160556Z
UID:3089-1731078000-1731099600@soosalkmaar.nl
SUMMARY:Vertigo Bingo
DESCRIPTION:
URL:https://soosalkmaar.nl/event/vertigo-bingo/
CATEGORIES:Bingo,Events
END:VEVENT
BEGIN:VEVENT
DTSTART;TZID=Europe/Amsterdam:20241025T150000
DTEND;TZID=Europe/Amsterdam:20241025T230000
DTSTAMP:20260424T181932
CREATED:20240831T160556Z
LAST-MODIFIED:20240831T160556Z
UID:3088-1729868400-1729897200@soosalkmaar.nl
SUMMARY:Halloween
DESCRIPTION:
URL:https://soosalkmaar.nl/event/halloween-3/
CATEGORIES:Events,Feest
END:VEVENT
BEGIN:VEVENT
DTSTART;TZID=Europe/Amsterdam:20241014T193000
DTEND;TZID=Europe/Amsterdam:20241014T233000
DTSTAMP:20260424T181932
CREATED:20240831T153214Z
LAST-MODIFIED:20240831T153214Z
UID:3070-1728934200-1728948600@soosalkmaar.nl
SUMMARY:ALV
DESCRIPTION:Tijd voor de Algemene Leden Vergadering van Omnivas. Kom en laat je stem horen!
URL:https://soosalkmaar.nl/event/alv/
LOCATION:Soos Alkmaar\, Bergerweg 200\, Alkmaar\, Noord-Holland\, 1817MN\, Nederland
END:VEVENT
BEGIN:VEVENT
DTSTART;TZID=Europe/Amsterdam:20241011T150000
DTEND;TZID=Europe/Amsterdam:20241011T210000
DTSTAMP:20260424T181932
CREATED:20240831T160554Z
LAST-MODIFIED:20240831T160554Z
UID:3086-1728658800-1728680400@soosalkmaar.nl
SUMMARY:Dispuutbattle 1.0
DESCRIPTION:
URL:https://soosalkmaar.nl/event/dispuutbattle-1-0-2/
CATEGORIES:Competitie,Events
END:VEVENT
BEGIN:VEVENT
DTSTART;TZID=Europe/Amsterdam:20241004T150000
DTEND;TZID=Europe/Amsterdam:20241004T210000
DTSTAMP:20260424T181932
CREATED:20240831T152914Z
LAST-MODIFIED:20240831T160554Z
UID:3065-1728054000-1728075600@soosalkmaar.nl
SUMMARY:Oktoberfest
DESCRIPTION:Trek je lederhosen of dirndl aan en geniet van een avond vol bier\, pretzels en Duitse gezelligheid tijdens het Oktoberfest.
URL:https://soosalkmaar.nl/event/oktoberfest/
CATEGORIES:Events,Feest
END:VEVENT
BEGIN:VEVENT
DTSTART;TZID=Europe/Amsterdam:20240705T183000
DTEND;TZID=Europe/Amsterdam:20240706T003000
DTSTAMP:20260424T181932
CREATED:20240411T124052Z
LAST-MODIFIED:20240411T124052Z
UID:3043-1720204200-1720225800@soosalkmaar.nl
SUMMARY:Zomerfeest
DESCRIPTION:Pûllûh vûllûh is back\, kom voor €25 onbeperkt drinken bij Hal 25
URL:https://soosalkmaar.nl/event/zomerfeest/
LOCATION:Hal 25\, Pettemerstraat 15\, Alkmaar\, Noord-Holland\, 1823CW\, Nederland
END:VEVENT
BEGIN:VEVENT
DTSTART;TZID=Europe/Amsterdam:20240607T150000
DTEND;TZID=Europe/Amsterdam:20240607T230000
DTSTAMP:20260424T181932
CREATED:20240411T112929Z
LAST-MODIFIED:20240411T121555Z
UID:3039-1717772400-1717801200@soosalkmaar.nl
SUMMARY:Dit was het jaar
DESCRIPTION:Kom terugblikken op het jaar\, met alleen nog een zomerfeest te gaan is het tijd om met een drankje tot volgend jaar te proosten!
URL:https://soosalkmaar.nl/event/dit-was-het-jaar/
LOCATION:Soos Alkmaar\, Bergerweg 200\, Alkmaar\, Noord-Holland\, 1817MN\, Nederland
END:VEVENT
BEGIN:VEVENT
DTSTART;TZID=Europe/Amsterdam:20240524T150000
DTEND;TZID=Europe/Amsterdam:20240524T210000
DTSTAMP:20260424T181932
CREATED:20240411T111444Z
LAST-MODIFIED:20240411T121731Z
UID:3036-1716562800-1716584400@soosalkmaar.nl
SUMMARY:Pride
DESCRIPTION:Het is pride in de SooS! Kom in je leukste kleding en doe een (m/c)ocktailtje mee!
URL:https://soosalkmaar.nl/event/pride/
LOCATION:Soos Alkmaar\, Bergerweg 200\, Alkmaar\, Noord-Holland\, 1817MN\, Nederland
END:VEVENT
END:VCALENDAR